BEGIN:VCALENDAR
VERSION:2.0
PRODID:-//Christliches Fußballer Netzwerk e.V. - ECPv6.15.20//NONSGML v1.0//EN
CALSCALE:GREGORIAN
METHOD:PUBLISH
X-WR-CALNAME:Christliches Fußballer Netzwerk e.V.
X-ORIGINAL-URL:https://cfn-ev.de
X-WR-CALDESC:Veranstaltungen für Christliches Fußballer Netzwerk e.V.
REFRESH-INTERVAL;VALUE=DURATION:PT1H
X-Robots-Tag:noindex
X-PUBLISHED-TTL:PT1H
BEGIN:VTIMEZONE
TZID:Europe/Berlin
BEGIN:DAYLIGHT
TZOFFSETFROM:+0100
TZOFFSETTO:+0200
TZNAME:CEST
DTSTART:20190331T010000
END:DAYLIGHT
BEGIN:STANDARD
TZOFFSETFROM:+0200
TZOFFSETTO:+0100
TZNAME:CET
DTSTART:20191027T010000
END:STANDARD
BEGIN:DAYLIGHT
TZOFFSETFROM:+0100
TZOFFSETTO:+0200
TZNAME:CEST
DTSTART:20200329T010000
END:DAYLIGHT
BEGIN:STANDARD
TZOFFSETFROM:+0200
TZOFFSETTO:+0100
TZNAME:CET
DTSTART:20201025T010000
END:STANDARD
BEGIN:DAYLIGHT
TZOFFSETFROM:+0100
TZOFFSETTO:+0200
TZNAME:CEST
DTSTART:20210328T010000
END:DAYLIGHT
BEGIN:STANDARD
TZOFFSETFROM:+0200
TZOFFSETTO:+0100
TZNAME:CET
DTSTART:20211031T010000
END:STANDARD
END:VTIMEZONE
BEGIN:VEVENT
DTSTART;TZID=Europe/Berlin:20201115T180000
DTEND;TZID=Europe/Berlin:20201115T193000
DTSTAMP:20260420T103854
CREATED:20200802T154345Z
LAST-MODIFIED:20200802T154419Z
UID:1052-1605463200-1605468600@cfn-ev.de
SUMMARY:HATTRICK - Der regionale Fußballgottesdienst
DESCRIPTION:Fußball & Gott & Glaube – Fußball mit Werten\nVaterhaus Gemeinde Nürnberg\, Dieselstr. 77 (voraussichtlich)\nAnpfiff 18.00 h – 90 Minuten für die Ewigkeit
URL:https://cfn-ev.de/veranstaltung/hattrick-der-regionale-fussballgottesdienst-15-11-20/
LOCATION:Vaterhaus Nürnberg\, Dieselstraße 77\, 90441 Nürnberg\, Bayern\, 90441\, Deutschland
CATEGORIES:Gottesdienste
ORGANIZER;CN="Christliches Fu%C3%9Fballer Netzwerk e.V.":MAILTO:info@cfn-ev.de
END:VEVENT
END:VCALENDAR